BEGIN:VCALENDAR
VERSION:2.0
PRODID:-//wp-events-plugin.com//7.2.3.1//EN
TZID:Europe/Vienna
X-WR-TIMEZONE:Europe/Vienna
BEGIN:VEVENT
UID:19401@bhakwien10.at
DTSTART;TZID=Europe/Vienna:20260423T000000
DTEND;TZID=Europe/Vienna:20260423T235900
DTSTAMP:20260420T224728Z
URL:https://www.bhakwien10.at/events/wiederholungspruefungen-bei-1ng-aus-d
 em-abschlussjahr-hak-aul/
SUMMARY:Wiederholungsprüfungen bei 1NG aus dem Abschlussjahr (HAK/AUL)
DESCRIPTION:Ablegen EINER Wiederholungsprüfung für Abschlussklassen (5.HA
 K/3.AUL)​\, wenn maximal EIN Nicht Genügend im Zeugnis!Die\n Ergebnisse
  sind durch den/die Prüfer/in noch am Prüfungstag an die \nAdministratio
 n sowie den KV (umgehende Korrektur der Zeugnisse - keine \nErfassung als 
 WHP wie im September) zu melden!
CATEGORIES:Administratives-TAG
END:VEVENT
BEGIN:VTIMEZONE
TZID:Europe/Vienna
X-LIC-LOCATION:Europe/Vienna
BEGIN:DAYLIGHT
DTSTART:20260329T030000
TZOFFSETFROM:+0100
TZOFFSETTO:+0200
TZNAME:CEST
END:DAYLIGHT
END:VTIMEZONE
END:VCALENDAR