BEGIN:VCALENDAR
VERSION:2.0
PRODID:-//wp-events-plugin.com//7.2.3.1//EN
TZID:Europe/Vienna
X-WR-TIMEZONE:Europe/Vienna
BEGIN:VEVENT
UID:19449@bhakwien10.at
DTSTART;TZID=Europe/Vienna:20260606T000000
DTEND;TZID=Europe/Vienna:20260606T235900
DTSTAMP:20260423T224555Z
URL:https://www.bhakwien10.at/events/vienna-school-night-2025/
SUMMARY:Vienna School Night 2026
DESCRIPTION:
CATEGORIES:Allgemein
END:VEVENT
BEGIN:VTIMEZONE
TZID:Europe/Vienna
X-LIC-LOCATION:Europe/Vienna
BEGIN:DAYLIGHT
DTSTART:20260329T030000
TZOFFSETFROM:+0100
TZOFFSETTO:+0200
TZNAME:CEST
END:DAYLIGHT
END:VTIMEZONE
END:VCALENDAR