BEGIN:VCALENDAR
VERSION:2.0
PRODID:-//wp-events-plugin.com//7.2.3.1//EN
TZID:Europe/Vienna
X-WR-TIMEZONE:Europe/Vienna
BEGIN:VEVENT
UID:19354@bhakwien10.at
DTSTART;TZID=Europe/Vienna:20260608T140000
DTEND;TZID=Europe/Vienna:20260608T150000
DTSTAMP:20260418T224541Z
URL:https://www.bhakwien10.at/events/sommertermin-2026-vorkonferenz-apr/
SUMMARY:Sommertermin 2026 - Vorkonferenz APR
DESCRIPTION:​Informationen zur Beurteilung der schriftlichen Klausuren er
 halten Sie nach der Vorkonferenz von Ihrer/Ihrem Prüfer/in bzw. KV/StuCo.
 Die Anmeldung zu den Kompensationsprüfungen senden bitte rechtzeitig (sie
 he Anmeldeschluss zu den Kompensationsprüfungen lt. Terminliste) per Mail
  an administration@bhakwien10.at.
CATEGORIES:Abschließende Prüfungen
END:VEVENT
BEGIN:VTIMEZONE
TZID:Europe/Vienna
X-LIC-LOCATION:Europe/Vienna
BEGIN:DAYLIGHT
DTSTART:20260329T030000
TZOFFSETFROM:+0100
TZOFFSETTO:+0200
TZNAME:CEST
END:DAYLIGHT
END:VTIMEZONE
END:VCALENDAR