BEGIN:VCALENDAR
VERSION:2.0
PRODID:-//wp-events-plugin.com//7.2.3.1//EN
TZID:Europe/Vienna
X-WR-TIMEZONE:Europe/Vienna
BEGIN:VEVENT
UID:19445@bhakwien10.at
DTSTART;TZID=Europe/Vienna:20260327T080000
DTEND;TZID=Europe/Vienna:20260327T085000
DTSTAMP:20260420T224738Z
URL:https://www.bhakwien10.at/events/ostergottesdienst/
SUMMARY:Ostergottesdienst
DESCRIPTION:
CATEGORIES:Allgemein
END:VEVENT
BEGIN:VTIMEZONE
TZID:Europe/Vienna
X-LIC-LOCATION:Europe/Vienna
BEGIN:STANDARD
DTSTART:20251026T020000
TZOFFSETFROM:+0200
TZOFFSETTO:+0100
TZNAME:CET
END:STANDARD
END:VTIMEZONE
END:VCALENDAR