BEGIN:VCALENDAR
VERSION:2.0
PRODID:-//wp-events-plugin.com//7.2.3.1//EN
TZID:Europe/Vienna
X-WR-TIMEZONE:Europe/Vienna
BEGIN:VEVENT
UID:19414@bhakwien10.at
DTSTART;TZID=Europe/Vienna:20260619T140000
DTEND;TZID=Europe/Vienna:20260619T140000
DTSTAMP:20260421T224631Z
URL:https://www.bhakwien10.at/events/notenschluss-tagesschule-2/
SUMMARY:Notenschluss Tagesschule
DESCRIPTION:
CATEGORIES:Administratives-TAG
END:VEVENT
BEGIN:VTIMEZONE
TZID:Europe/Vienna
X-LIC-LOCATION:Europe/Vienna
BEGIN:DAYLIGHT
DTSTART:20260329T030000
TZOFFSETFROM:+0100
TZOFFSETTO:+0200
TZNAME:CEST
END:DAYLIGHT
END:VTIMEZONE
END:VCALENDAR