BEGIN:VCALENDAR
VERSION:2.0
PRODID:-//wp-events-plugin.com//7.2.3.1//EN
TZID:Europe/Vienna
X-WR-TIMEZONE:Europe/Vienna
BEGIN:VEVENT
UID:19459@bhakwien10.at
DTSTART;TZID=Europe/Vienna:20260917T000000
DTEND;TZID=Europe/Vienna:20260917T235900
DTSTAMP:20260422T224858Z
URL:https://www.bhakwien10.at/events/herbsttermin-2026-deutsch-schriftlich
 -srdp-apr-brp/
SUMMARY:Herbsttermin 2026 - DEUTSCH schriftlich sRDP/APR/BRP
DESCRIPTION:​Anwesenheit&#058\; 7&#058\;45 UhrPrüfungsbeginn&#058\; 8&#0
 58\;30 UhrRaumeinteilung lt. Aushang am Prüfungstag
CATEGORIES:Abschließende Prüfungen
END:VEVENT
BEGIN:VTIMEZONE
TZID:Europe/Vienna
X-LIC-LOCATION:Europe/Vienna
BEGIN:DAYLIGHT
DTSTART:20260329T030000
TZOFFSETFROM:+0100
TZOFFSETTO:+0200
TZNAME:CEST
END:DAYLIGHT
END:VTIMEZONE
END:VCALENDAR