BEGIN:VCALENDAR
VERSION:2.0
PRODID:-//wp-events-plugin.com//7.2.3.1//EN
TZID:Europe/Vienna
X-WR-TIMEZONE:Europe/Vienna
BEGIN:VEVENT
UID:21613@bhakwien10.at
DTSTART;TZID=Europe/Vienna:20260123T000000
DTEND;TZID=Europe/Vienna:20260130T235900
DTSTAMP:20260423T224557Z
URL:https://www.bhakwien10.at/events/creative-challenge-days-hakdigbiz/
SUMMARY:Creative Challenge Days - HAKdigBiz
DESCRIPTION:​Teilnehmende Klassen&#058\; 3AD\, 4AD
CATEGORIES:Allgemein
END:VEVENT
BEGIN:VTIMEZONE
TZID:Europe/Vienna
X-LIC-LOCATION:Europe/Vienna
BEGIN:STANDARD
DTSTART:20251026T020000
TZOFFSETFROM:+0200
TZOFFSETTO:+0100
TZNAME:CET
END:STANDARD
END:VTIMEZONE
END:VCALENDAR