BEGIN:VCALENDAR
VERSION:2.0
PRODID:-//wp-events-plugin.com//7.2.3.1//EN
TZID:Europe/Vienna
X-WR-TIMEZONE:Europe/Vienna
BEGIN:VEVENT
UID:19301@bhakwien10.at
DTSTART;TZID=Europe/Vienna:20260128T130000
DTEND;TZID=Europe/Vienna:20260128T190000
DTSTAMP:20260424T224542Z
URL:https://www.bhakwien10.at/events/beschlusskonferenzen-1-halbjahr/
SUMMARY:Beschlusskonferenzen - 1. Halbjahr
DESCRIPTION:​Unterrichtsende Tagesschule nach der 5. Stunde
CATEGORIES:Konferenzen/Besprechungen
END:VEVENT
BEGIN:VTIMEZONE
TZID:Europe/Vienna
X-LIC-LOCATION:Europe/Vienna
BEGIN:STANDARD
DTSTART:20251026T020000
TZOFFSETFROM:+0200
TZOFFSETTO:+0100
TZNAME:CET
END:STANDARD
END:VTIMEZONE
END:VCALENDAR